BEGIN:VCALENDAR
VERSION:2.0
PRODID:-//Emscher Ruhr Turnverband - ECPv6.15.17.1//NONSGML v1.0//EN
CALSCALE:GREGORIAN
METHOD:PUBLISH
X-WR-CALNAME:Emscher Ruhr Turnverband
X-ORIGINAL-URL:https://emscherruhrturngau.de
X-WR-CALDESC:Veranstaltungen für Emscher Ruhr Turnverband
REFRESH-INTERVAL;VALUE=DURATION:PT1H
X-Robots-Tag:noindex
X-PUBLISHED-TTL:PT1H
BEGIN:VTIMEZONE
TZID:UTC
BEGIN:STANDARD
TZOFFSETFROM:+0000
TZOFFSETTO:+0000
TZNAME:UTC
DTSTART:20240101T000000
END:STANDARD
END:VTIMEZONE
BEGIN:VEVENT
DTSTART;TZID=UTC:20250208T100000
DTEND;TZID=UTC:20250208T130000
DTSTAMP:20260423T072339
CREATED:20250203T145438Z
LAST-MODIFIED:20250203T145438Z
UID:2487-1739008800-1739019600@emscherruhrturngau.de
SUMMARY:Kampfrichter Fortbildung Gerätturnen weiblich
DESCRIPTION:Kampfrichter Fortbildung Gerätturnen weiblich\nUm für das Jahr 2025 gerüstet zu sein\, brauchen wir qualifizierte Kampfrichter für das weibliche Gerätturnen. Der ERT lädt deshalb zurKampfrichter Fortbildung ein: Die Fortbildung richtet sich an alle Karis\, dieüber eine bestehende LK Lizenz verfügen. Geschult werden die Inhalte des CDP 2021-2024. In 2025 werden alle Wettk ämpfe nach diesen Wertungsvorschriften ausgetragen. \nDatum: 8. Februar 2025 \nOrt: Sportpark Wanne\, Presseraum: Im Sportpark 20\, 44652 Herne \nUhrzeit: 10-13 Uhr \nReferentin: Celina Iczek (Kampfrichterwartin ERT) \nMeldungen bitte an: celina.iczek@googlemail.com \nMeldeschluss: Mittwoch\, 29.01.2025 \nTeilnehmerbeitrag für den Lehrgang: 10 € für die Fortbildung. \nBitte zu überweisen bis 31.01.2025 an den ERT. \nSparkasse Bochum\nIBAN: DE85 4305 0001 0041 3000 96\nVerwendungszweck: Vorname\, Name\, Kampfrichterlehrgang \nWeiter Informationen im Rundbrief\nDownload Rundbrief
URL:https://emscherruhrturngau.de/event/kampfrichter-fortbildung-geraetturnen-weiblich/
LOCATION:Sportpark Wanne\, Im Sportpark 20\, Herne\, 44652\, Germany
CATEGORIES:Veranstaltungen
END:VEVENT
END:VCALENDAR