BEGIN:VCALENDAR
VERSION:2.0
PRODID:-//Emscher Ruhr Turnverband - ECPv6.15.17.1//NONSGML v1.0//EN
CALSCALE:GREGORIAN
METHOD:PUBLISH
X-WR-CALNAME:Emscher Ruhr Turnverband
X-ORIGINAL-URL:https://emscherruhrturngau.de
X-WR-CALDESC:Veranstaltungen für Emscher Ruhr Turnverband
REFRESH-INTERVAL;VALUE=DURATION:PT1H
X-Robots-Tag:noindex
X-PUBLISHED-TTL:PT1H
BEGIN:VTIMEZONE
TZID:UTC
BEGIN:STANDARD
TZOFFSETFROM:+0000
TZOFFSETTO:+0000
TZNAME:UTC
DTSTART:20230101T000000
END:STANDARD
END:VTIMEZONE
BEGIN:VEVENT
DTSTART;VALUE=DATE:20241201
DTEND;VALUE=DATE:20241202
DTSTAMP:20260423T103531
CREATED:20240620T163304Z
LAST-MODIFIED:20240624T073019Z
UID:2270-1733011200-1733097599@emscherruhrturngau.de
SUMMARY:ADVENTSTURNEN des E R T
DESCRIPTION:Startberechtigt sind alle Mädchen und Jungen aus allgemeinen Kindergruppen\, die nur einmal wöchentlich trainieren. Turnerinnen und Turner\, die bereits an einem anderen Wettkampf teilgenommen haben\, sind für diesen Wettkampf gesperrt!!! \nAlle Teilnehmerinnen turnen an Sprung\, Stützreck\, Balken und Boden\, die Jungen an Boden\, Sprung\, Parallelbarren und Stützreck einen Vierkampf und können ihre Übung von P1-6 frei wählen. \nBoden:\n12 m Läufer – es wird ohne Musik geturnt \nBalken:\nÜbung 1 breite Bank\nÜbung 2 Minibalken\nÜbung 3-6 Balkenhöhe 80 cm \nReck: Alle Übungen werden am schulterhohen Reck geturnt (Ausser P6 Jungen) \nSprung: Mädchen gemäß Gau-Wettkampfprogramm\, Jungen gemäß Aufgabenbuch männlich 2015 \nParallelbarren: Zum erhöhten Angang ist ein kleiner Kasten zulässig \nSprungbretter: Es wird mit bereitgestellten Brettern gesprungen. Veränderungen sind nicht zulässig \nKleidung: enganliegende Leggings und Radlerhosen und T-Shirts erlaubt \nAltersklassen: Die Altersklassen werden nach Eingang der Meldungen entsprechend der Teilnehmerzahlen zusammengefasst. Die Einteilung wird mit dem Zeit- und Riegenplan bekannt gegeben. \nKampfrichter: Pro angefangene sechs Turnerinnen ein Kampfrichter \nWettkampfzeiten: werden nach Eingang der Meldungen bekannt gegeben. \nFotos/Videoaufnahmen: Es werden ggf. Fotos/Videoaufnahmen der Aktiven gemacht und veröffentlicht im Rahmen der Öffentlichkeitsarbeit des ERT und der teilnehmenden Vereine. Mit der Anmeldung erklären sich Turnerinnen bzw. deren Erziehungsberechtigte in diesem Rahmen mit der Veröffentlichung des Bildmaterials\, auf dem sie abgebildet sind\, einverstanden. Es bleibt weiterhin verboten\, Turnerinnen aus anderen Vereinen ohne deren Zustimmung zu fotografieren oder zu filmen. \nMeldungen mit Namen\, Jahrgang\, bitte nur mit beigefügten Meldeformularen bis spätestens 22. November 2024 an: Michael Alfermann: falke@michael-alfermann.de
URL:https://emscherruhrturngau.de/event/adventsturnen-des-e-r-t/
LOCATION:Sportzentrum Westenfeld\, Lohackerstr. 9c\, Bochum\, 44867\, Deutschland
CATEGORIES:Veranstaltungen
ORGANIZER;CN="TV Kronenburg":MAILTO:falke@michael-alfermann.de
END:VEVENT
END:VCALENDAR