BEGIN:VCALENDAR
VERSION:2.0
PRODID:-//Emscher Ruhr Turnverband - ECPv6.15.17.1//NONSGML v1.0//EN
CALSCALE:GREGORIAN
METHOD:PUBLISH
X-WR-CALNAME:Emscher Ruhr Turnverband
X-ORIGINAL-URL:https://emscherruhrturngau.de
X-WR-CALDESC:Veranstaltungen für Emscher Ruhr Turnverband
REFRESH-INTERVAL;VALUE=DURATION:PT1H
X-Robots-Tag:noindex
X-PUBLISHED-TTL:PT1H
BEGIN:VTIMEZONE
TZID:UTC
BEGIN:STANDARD
TZOFFSETFROM:+0000
TZOFFSETTO:+0000
TZNAME:UTC
DTSTART:20230101T000000
END:STANDARD
END:VTIMEZONE
BEGIN:VEVENT
DTSTART;TZID=UTC:20240203T090000
DTEND;TZID=UTC:20240203T170000
DTSTAMP:20260424T024725
CREATED:20231012T100100Z
LAST-MODIFIED:20231012T101510Z
UID:2061-1706950800-1706979600@emscherruhrturngau.de
SUMMARY:Basisqualifizierung ÜL-C 2024
DESCRIPTION:Thema:\nDie Basisqualifizierung ist das Einstiegsmodul zum Erwerb der Lizenz als Übungsleiter oder Trainer und findet als Präsenzveranstaltung statt. Sie ist die Grundlage und notwendige Einstiegsvoraussetzung für das folgende Lizenzprofil. \nTermin:\nBasismodul Folge 1: Samstag\, 03.02. und Sonntag\, 04.02.2024\nBasismodul Folge 2: Samstag\, 24.02. und Sonntag\, 25.02.2024 \nOrt und Zeit:\nSamstags von 09:00 Uhr bis 17:00 Uhr in Bochum\nSonntags von 09:00 Uhr bis 15:00 Uhr in Bochum \nReferenten:\nERT-Team \nAnmeldung:\nDie Anmeldung ist wahrscheinlich ab Oktober im Gymnet des WTB oder schriftlich beim WTB\, Zum Schloss Oberwerries\, 59073 Hamm\, möglich. Die Teilnahme ist nur nach Vollendung des 16. Lebensjahres und bei Befürwortung durch einen Verein möglich. \nKosten:\nFür das Basismodul 90\,- € für Teilnehmer aus Mitgliedsvereinen mit Vereinsempfehlung\, ansonsten 180\,- €. \nHinweis:\nRückfragen zur Ausbildung beantwortet die Vorsitzende des ERT unter Vorsitzende@ert-online.de oder 0173 2923038.
URL:https://emscherruhrturngau.de/event/basisqualifizierung-uel-c-2024/
LOCATION:NRW
CATEGORIES:Veranstaltungen
END:VEVENT
BEGIN:VEVENT
DTSTART;TZID=UTC:20240204T100000
DTEND;TZID=UTC:20240204T140000
DTSTAMP:20260424T024725
CREATED:20240131T134700Z
LAST-MODIFIED:20240131T134742Z
UID:2123-1707040800-1707055200@emscherruhrturngau.de
SUMMARY:Kampfrichter Fort- und Neuausbildung Gerätturnen weibl.
DESCRIPTION:Kampfrichter Fort- und Neuausbildung Gerätturnen weibl. \nInhalt:\nBestimmung von E und D Noten von LK im DTB. \nTermine:\n04.02.2024 1. Folge. 10-14 Uhr Einsteigerlehrgang (Anfänger)\n11.02.2024 2. Folge 10-14 Uhr 1. Lehrgangstag (Anfänger und Karis)\n25.02.2024 3. Folge 10-14 Uhr 2. Lehrgangstag (Anfänger und Karis) \nReferentin:\nDaniela Bischof \nWeitergehende Informationen\nLizenzerhalt bestehende Karis:\nentweder 1 Lehrgang und 2 Wettkämpfe oder 2 Lehrgänge und 1 Wettkampf \nLizenzerhalt Neuausbildung:\n– Besuch aller drei Lehrgangstage\n– Hospitation an jedem Gerät\n– Hospitationstage können in Ausnahmefällen nach der Prüfung nachgeholt werden.\n– Bestehen der Prüfung \nWeitere Informationen findet Ihr im Rundbrief 03.2024
URL:https://emscherruhrturngau.de/event/kampfrichter-fort-und-neuausbildung-geraetturnen-weibl/
LOCATION:TVK Wattenscheid\, Preins Feld 3\, 44869\, Bochum\, Preins Feld 3\, Bochum\, NRW\, 44869\, Deutschland
CATEGORIES:Veranstaltungen
END:VEVENT
END:VCALENDAR