BEGIN:VCALENDAR
VERSION:2.0
PRODID:-//Emscher Ruhr Turnverband - ECPv6.15.17.1//NONSGML v1.0//EN
CALSCALE:GREGORIAN
METHOD:PUBLISH
X-ORIGINAL-URL:https://emscherruhrturngau.de
X-WR-CALDESC:Veranstaltungen für Emscher Ruhr Turnverband
REFRESH-INTERVAL;VALUE=DURATION:PT1H
X-Robots-Tag:noindex
X-PUBLISHED-TTL:PT1H
BEGIN:VTIMEZONE
TZID:UTC
BEGIN:STANDARD
TZOFFSETFROM:+0000
TZOFFSETTO:+0000
TZNAME:UTC
DTSTART:20240101T000000
END:STANDARD
END:VTIMEZONE
BEGIN:VEVENT
DTSTART;TZID=UTC:20251206T090000
DTEND;TZID=UTC:20251206T140000
DTSTAMP:20260422T133236
CREATED:20251022T123847Z
LAST-MODIFIED:20251022T124027Z
UID:2669-1765011600-1765029600@emscherruhrturngau.de
SUMMARY:Kampfrichter Neuausbildung weiblich
DESCRIPTION:Thema:\nKampfrichter Neuausbildung weiblich \nInhalt:\nBestimmung von E und D Note im LK Bereich \nTermine:\n06.12.2025 1. Folge (9-14 Uhr) Allgemeines\n10.01.2026 2. Folge (9-14 Uhr) (Sprung und Boden)\n24.01.2026 3. Folge (9-14 Uhr) (Barren und Balken) \nOrt:\nRäumlichkeiten des SSB\, Westring 32\, 44787 Bochum \nReferentin:\nCelina Iczek \nAnmeldung:\nper E-Mail an: Celina.iczek@googlemail.com und sportliche-Leitung@ert-online.de\nDa die Anzahl der Teilnehmer auf 15 Personen begrenzt ist\, zählt die\nReihenfolge nach Eingang der Anmeldungen. \nMeldeschluss: 10.11.2025 \nKosten: 25\,00 Euro \nBitte zu überweisen (spätestens 20.11.2025) an den ERT:\nSparkasse Bochum\, IBAN: DE85 4305 0001 0041 3000 96 \nVerwendungszweck: Vorname\, Name\, Verein\, Kampfrichterlehrgang \nWeitere wichtige Informationen im Rundbrief\nDownload Rundbrief
URL:https://emscherruhrturngau.de/event/kampfrichter-neuausbildung-weiblich/
LOCATION:SSB\, Westring 32\, 44787 Bochum\, Westring 32\, Bochum\, NRW\, 44787\, Germany
CATEGORIES:Veranstaltungen
END:VEVENT
END:VCALENDAR