BEGIN:VCALENDAR
VERSION:2.0
PRODID:-//Emscher Ruhr Turnverband - ECPv6.15.17.1//NONSGML v1.0//EN
CALSCALE:GREGORIAN
METHOD:PUBLISH
X-WR-CALNAME:Emscher Ruhr Turnverband
X-ORIGINAL-URL:https://emscherruhrturngau.de
X-WR-CALDESC:Veranstaltungen für Emscher Ruhr Turnverband
REFRESH-INTERVAL;VALUE=DURATION:PT1H
X-Robots-Tag:noindex
X-PUBLISHED-TTL:PT1H
BEGIN:VTIMEZONE
TZID:UTC
BEGIN:STANDARD
TZOFFSETFROM:+0000
TZOFFSETTO:+0000
TZNAME:UTC
DTSTART:20240101T000000
END:STANDARD
END:VTIMEZONE
BEGIN:VEVENT
DTSTART;TZID=UTC:20251109T000000
DTEND;TZID=UTC:20251109T235900
DTSTAMP:20260422T145700
CREATED:20250203T152021Z
LAST-MODIFIED:20250203T152037Z
UID:2501-1762646400-1762732740@emscherruhrturngau.de
SUMMARY:Martinsturnen des E R T
DESCRIPTION:Termin: Sonntag 9. November 2025 \nOrt: Sportzentrum Westenfeld\, Lohackerstr. 9c\, 44867 Bochum \nAusrichter: TV Kronenburg \nStartberechtigt sind alle Mädchen und Jungen aus allgemeinen Kindergruppen\, die nur einmal wöchentlich trainieren. Turnerinnen und Turner\, die bereits an einem anderen Wettkampf teilgenommen haben\, sind für diesen Wettkampf gesperrt!!! \nAlle Teilnehmerinnen turnen an Sprung\, Stützreck\, Balken und Boden\, die Jungen an Boden\, Sprung\, Parallelbarren und Stützreck einen Vierkampf und können ihre Übung von P1-6 frei wählen. \nWeiter Informationen im Rundbrief\nDownload Rundbrief
URL:https://emscherruhrturngau.de/event/martinsturnen-des-e-r-t/
LOCATION:Sportzentrum Westenfeld\, Lohackerstr. 9c\, Bochum\, 44867\, Deutschland
CATEGORIES:Veranstaltungen
ORGANIZER;CN="TV Kronenburg":MAILTO:falke@michael-alfermann.de
END:VEVENT
END:VCALENDAR