BEGIN:VCALENDAR
VERSION:2.0
PRODID:-//Emscher Ruhr Turnverband - ECPv6.15.17.1//NONSGML v1.0//EN
CALSCALE:GREGORIAN
METHOD:PUBLISH
X-ORIGINAL-URL:https://emscherruhrturngau.de
X-WR-CALDESC:Veranstaltungen für Emscher Ruhr Turnverband
REFRESH-INTERVAL;VALUE=DURATION:PT1H
X-Robots-Tag:noindex
X-PUBLISHED-TTL:PT1H
BEGIN:VTIMEZONE
TZID:UTC
BEGIN:STANDARD
TZOFFSETFROM:+0000
TZOFFSETTO:+0000
TZNAME:UTC
DTSTART:20240101T000000
END:STANDARD
END:VTIMEZONE
BEGIN:VEVENT
DTSTART;TZID=UTC:20251102T000000
DTEND;TZID=UTC:20251102T235900
DTSTAMP:20260422T145530
CREATED:20250203T151851Z
LAST-MODIFIED:20250203T151851Z
UID:2498-1762041600-1762127940@emscherruhrturngau.de
SUMMARY:ERT – „Herbstturntag 2025“ der Turnerinnen
DESCRIPTION:Der ERT lädt alle Turnerinnen aus Herne\, Bochum und Hattingen recht herzlich zum Vergleichswettkampf der Vereine ein. \nTermin: Sonntag\, 2. November 2025 \nAustragungsort: Westringhalle (Herne) \nVeranstalter: Emscher-Ruhr-Turnverband \nAusrichter: BTC Herne (Westringhalle) \nZeitplan: Der genaue Zeitplan sowie die Riegeneinteilung werden nach Eingang der Meldungen per E-Mail an die verantwortlichen Trainer/innen versendet. \nWettkampf 1: Wettkampfform A \nWettkampf 2: Wettkampfform B \nWettkampf 3: Wettkampfform C \nWettkampf 4: P-Stufen JG 2014 und jünger \nWeiter Informationen im Rundbrief\nDownload Rundbrief
URL:https://emscherruhrturngau.de/event/ert-herbstturntag-2025-der-turnerinnen/
LOCATION:Westringhalle (Herne)
CATEGORIES:Veranstaltungen
END:VEVENT
END:VCALENDAR