BEGIN:VCALENDAR
VERSION:2.0
PRODID:-//Emscher Ruhr Turnverband - ECPv6.15.17.1//NONSGML v1.0//EN
CALSCALE:GREGORIAN
METHOD:PUBLISH
X-ORIGINAL-URL:https://emscherruhrturngau.de
X-WR-CALDESC:Veranstaltungen für Emscher Ruhr Turnverband
REFRESH-INTERVAL;VALUE=DURATION:PT1H
X-Robots-Tag:noindex
X-PUBLISHED-TTL:PT1H
BEGIN:VTIMEZONE
TZID:UTC
BEGIN:STANDARD
TZOFFSETFROM:+0000
TZOFFSETTO:+0000
TZNAME:UTC
DTSTART:20240101T000000
END:STANDARD
END:VTIMEZONE
BEGIN:VEVENT
DTSTART;TZID=UTC:20250913T100000
DTEND;TZID=UTC:20250913T100000
DTSTAMP:20260422T195327
CREATED:20240910T163203Z
LAST-MODIFIED:20240924T153222Z
UID:2307-1757757600-1757757600@emscherruhrturngau.de
SUMMARY:Strong Back – starker und gesunder Rücken
DESCRIPTION:Strong Back – starker und gesunder Rücken\nUm Menschen dabei zu unterstützen\, einen starken und belastbaren Rücken zu entwickeln\, wird in diesem Tageslehrgang Fachwissen und praktische Anleitungen hierfür vermittelt. Die neuesten Erkenntnisse aus der Anatomie\, Biomechanik und Prävention von Rückenproblemen bilden hierbei die Grundlage. Wirksame Übungen und Techniken\, um Rückenschmerzen vorzubeugen und bestehende Beschwerden zu lindern\, werden erlernt. \nTermin 13.9. 2025 10 Uhr – 17 Uhr / 8 LE \nOrt Bochum \nKosten Gymcard 60\,- / Regulär 95\,- \nLeitung Jule Greiling \nLizenzverl. ÜL-C\, Tr-C Breitensport\, ÜL-B\, ÜL-Reha \nLink https://events.dtb-gymnet.de/index.php?q=eventdetails&evsuEventID=103589 \nWeiter Informationen im Rundbrief\nDownload Rundbrief
URL:https://emscherruhrturngau.de/event/strong-back-starker-und-gesunder-ruecken/
LOCATION:Turnhalle Hildegardis-Schule\, Klinikstr. 1\, 44791 Bochum\, Klinikstr. 1\, Bochum\, NRW\, 44791\, Deutschland
CATEGORIES:Veranstaltungen
END:VEVENT
END:VCALENDAR