BEGIN:VCALENDAR
VERSION:2.0
PRODID:-//Emscher Ruhr Turnverband - ECPv6.15.17.1//NONSGML v1.0//EN
CALSCALE:GREGORIAN
METHOD:PUBLISH
X-ORIGINAL-URL:https://emscherruhrturngau.de
X-WR-CALDESC:Veranstaltungen für Emscher Ruhr Turnverband
REFRESH-INTERVAL;VALUE=DURATION:PT1H
X-Robots-Tag:noindex
X-PUBLISHED-TTL:PT1H
BEGIN:VTIMEZONE
TZID:UTC
BEGIN:STANDARD
TZOFFSETFROM:+0000
TZOFFSETTO:+0000
TZNAME:UTC
DTSTART:20240101T000000
END:STANDARD
END:VTIMEZONE
BEGIN:VEVENT
DTSTART;TZID=UTC:20250406T000000
DTEND;TZID=UTC:20250406T235900
DTSTAMP:20260423T052246
CREATED:20250203T150004Z
LAST-MODIFIED:20250203T150528Z
UID:2490-1743897600-1743983940@emscherruhrturngau.de
SUMMARY:ERT – Sommervergleich 2025 der Vereine
DESCRIPTION:Termine: So\, 06.04. // So\, 18.05. // So\, 15.06.2025 \nDer ERT lädt alle Vereine aus Bochum\, Hattingen und Herne recht herzlich zum Vereinsvergleich über drei Termine ein. \nAustragungsorte & Ausrichter:\n1. TuS Hattingen\, Lindstockstraße 2\, 45527 Hattingen\n2. und 3. TZ Bochum\, Harperner Heide 5\, Bochum. \nVeranstalter: Emscher-Ruhr-Turnverband \nWettkampfklassen:\nWettkampf I: Turnerinnen: altersgemischt – Wettkampfform A \nWettkampf II: Turnerinnen: altersgemischt – Wettkampfform B \nWettkampf III: Turnerinnen: altersgemischt – Wettkampfform C \nWettkampf IV: Turnerinnen: Jahrgang 2015 u jünger – Wettkampfform C \nZeitplan: Der genaue Zeitplan sowie die Riegeneinteilung werden nach Eingang der Meldungen per E-Mail an die verantwortlichen Trainer/innen versendet. \n  \nWeiter Informationen im Rundbrief\nDownload Rundbrief
URL:https://emscherruhrturngau.de/event/ert-sommervergleich-2025-der-vereine/
LOCATION:TuS Hattingen\, Lindstockstraße 2\, Hattingen\, 45527
CATEGORIES:Veranstaltungen
END:VEVENT
END:VCALENDAR