BEGIN:VCALENDAR
VERSION:2.0
PRODID:-//Emscher Ruhr Turnverband - ECPv6.15.17.1//NONSGML v1.0//EN
CALSCALE:GREGORIAN
METHOD:PUBLISH
X-WR-CALNAME:Emscher Ruhr Turnverband
X-ORIGINAL-URL:https://emscherruhrturngau.de
X-WR-CALDESC:Veranstaltungen für Emscher Ruhr Turnverband
REFRESH-INTERVAL;VALUE=DURATION:PT1H
X-Robots-Tag:noindex
X-PUBLISHED-TTL:PT1H
BEGIN:VTIMEZONE
TZID:UTC
BEGIN:STANDARD
TZOFFSETFROM:+0000
TZOFFSETTO:+0000
TZNAME:UTC
DTSTART:20240101T000000
END:STANDARD
END:VTIMEZONE
BEGIN:VEVENT
DTSTART;TZID=UTC:20250327T193000
DTEND;TZID=UTC:20250327T210000
DTSTAMP:20260423T073432
CREATED:20250203T152347Z
LAST-MODIFIED:20250203T152347Z
UID:2506-1743103800-1743109200@emscherruhrturngau.de
SUMMARY:Selbstverteidigung für Frauen / Teil 2
DESCRIPTION:Selbstverteidigung für Frauen\nIm Bereich Selbstverteidigung ist eine Frau gegenüber einem Mann oft körperlich unterlegen. Deswegen bieten wir einen Selbstverteidigungskurs mit einem Selbstverteidigung-Gadget an. Der Kubotan ist ein Druckpunktverstärker und ist nicht viel größer als ein Schlüsselanhänger. Dabei handelt es sich um eine Selbstverteidigungswaffe\, die ihre Ursprünge im antiken Japan hat. Der Kubotan dient dabei als Verstärkung bestimmter Techniken und verleiht Attacken noch mehr Kraft. Bei geringer Größe und wenig Platzbedarf\, entfaltet er also ein enormes Potenzial. Die Handhabung des Kubotans ist für jeden leicht zu erlernen und mit geringem Kraftaufwand eine sehr effektive Verteidigungswaffe. \nPrinzipiell ist der Kubotan dabei nichts anderes als ein besonders robuster Kugelschreiber\, leicht zu erlernen. \nTermin:\nTeil 1: Donnerstag\, 13.03.2025\nTeil 2: Donnerstag\, 27.03.2025 \nZeit: 19:30 – 21:00 Uhr \nOrt: Turnhalle Hildegardis-Schule\, Klinikstr.1/Ecke Kurfürstenstr.\, 44791 Bochum \nReferentin: Andreas Cilento\, TV Hattingen \nAnmeldung: Iris Pöstgens\, Tel: 0177 4242022 \nEmail: gesundheitssport@ert-online.de \nAnmeldeschluss: 07.03.2025 \nHinweis: Die Veranstaltung ist kostenlos. Eine Anmeldung ist allerdings aus organisatorischen Gründen erforderlich\, Eine Anmeldung kann auch für einen Kurs erfolgen. \nWeiter Informationen im Rundbrief\nDownload Rundbrief
URL:https://emscherruhrturngau.de/event/selbstverteidigung-fuer-frauen-teil-2/
LOCATION:Turnhalle Hildegardis-Schule\, Klinikstr. 1\, 44791 Bochum\, Klinikstr. 1\, Bochum\, NRW\, 44791\, Deutschland
CATEGORIES:Veranstaltungen
END:VEVENT
END:VCALENDAR