BEGIN:VCALENDAR
VERSION:2.0
PRODID:-//Emscher Ruhr Turnverband - ECPv6.15.17.1//NONSGML v1.0//EN
CALSCALE:GREGORIAN
METHOD:PUBLISH
X-ORIGINAL-URL:https://emscherruhrturngau.de
X-WR-CALDESC:Veranstaltungen für Emscher Ruhr Turnverband
REFRESH-INTERVAL;VALUE=DURATION:PT1H
X-Robots-Tag:noindex
X-PUBLISHED-TTL:PT1H
BEGIN:VTIMEZONE
TZID:UTC
BEGIN:STANDARD
TZOFFSETFROM:+0000
TZOFFSETTO:+0000
TZNAME:UTC
DTSTART:20240101T000000
END:STANDARD
END:VTIMEZONE
BEGIN:VEVENT
DTSTART;TZID=UTC:20250322T000000
DTEND;TZID=UTC:20250322T235900
DTSTAMP:20260423T073617
CREATED:20250203T150319Z
LAST-MODIFIED:20250203T150503Z
UID:2495-1742601600-1742687940@emscherruhrturngau.de
SUMMARY:ERT – „Frühlingserwachen 2025“ der Turnerinnen
DESCRIPTION:Ausschreibung zum ERT – „Frühlingserwachen 2025“ der Turnerinnen\nDer ERT lädt alle Turnerinnen aus Herne\, Bochum und Hattingen recht herzlich zum Vergleichswettkampf der Vereine ein. \nTermin: Samstag\, 22. März 2025 \nAustragungsort: Dr.-C.-Otto-Straße 88\, 44879 Bochum \nVeranstalter: Emscher-Ruhr-Turnverband \nAusrichter: Linden-Dahlhauser TV \nZeitplan: Der genaue Zeitplan sowie die Riegeneinteilung werden nach Eingang der Meldungen per E-Mail an die verantwortlichen Trainer/innen versendet. \nWettkampf I: Wettkampfform A \nWettkampf II: Wettkampfform B \nWettkampf III: Wettkampfform C \nWettkampf IV: P-Stufen 1-6 bis AK10 \nWeiter Informationen im Rundbrief\nDownload Rundbrief
URL:https://emscherruhrturngau.de/event/ert-fruehlingserwachen-2025-der-turnerinnen/
LOCATION:Dr.-C.-Otto-Straße 88\, 44879 Bochum\, Dr.-C.-Otto-Straße 88\, Bochum\, 44879\, Deutschland
CATEGORIES:Veranstaltungen
END:VEVENT
END:VCALENDAR