BEGIN:VCALENDAR
VERSION:2.0
PRODID:-//Emscher Ruhr Turnverband - ECPv6.15.17.1//NONSGML v1.0//EN
CALSCALE:GREGORIAN
METHOD:PUBLISH
X-ORIGINAL-URL:https://emscherruhrturngau.de
X-WR-CALDESC:Veranstaltungen für Emscher Ruhr Turnverband
REFRESH-INTERVAL;VALUE=DURATION:PT1H
X-Robots-Tag:noindex
X-PUBLISHED-TTL:PT1H
BEGIN:VTIMEZONE
TZID:UTC
BEGIN:STANDARD
TZOFFSETFROM:+0000
TZOFFSETTO:+0000
TZNAME:UTC
DTSTART:20240101T000000
END:STANDARD
END:VTIMEZONE
BEGIN:VEVENT
DTSTART;TZID=UTC:20250308T100000
DTEND;TZID=UTC:20250308T130000
DTSTAMP:20260423T072755
CREATED:20250214T082908Z
LAST-MODIFIED:20250214T083005Z
UID:2530-1741428000-1741438800@emscherruhrturngau.de
SUMMARY:Kampfrichter Fortbildung Gerätturnen weiblich
DESCRIPTION:Um für das Jahr 2025 gerüstet zu sein\, brauchen wir qualifizierte Kampfrichter für das weibliche Gerätturnen. Der ERT lädt deshalb zur Kampfrichter Fortbildung ein: \nDie Fortbildung richtet sich an alle Karis\, die über eine bestehende LK Lizenz verfügen. Geschult werden die Inhalte des CDP 2021-2024. In 2025 werden alle Wettkämpfe nach diesen Wertungsvorschriften ausgetragen. \nDatum: 8. März 2025 \nOrt: Sportpark Wanne\, Presseraum: Im Sportpark 20\, 44652 Herne \nHinweis: Eingang von der Hinterseite (Sportplatz). Der Raum befindet sich im 1. OG\, Treppe hoch und links bis hinten durch. \nUhrzeit: 10 -13 Uhr \nReferentin: Celina Iczek (Kampfrichterwartin ERT) \nMeldungen bitte an: celina.iczek@googlemail.com \nMeldeschluss: 01.03.2025 \nTeilnehmerbeitrag für den Lehrgang: 10\,00 € \nBitte zu überweisen bis 01.03.2025 an den Emscher-Ruhr Turnverband\,\nSparkasse Bochum IBAN: DE85 4305 0001 0041 3000 96\nVerwendungszweck: Vorname\, Name\, Kampfrichterlehrgang \nAußerdem: \nUm in diesem Jahr an den Wettkämpfen werten zu dürfen\, ist der Nachweis einer aktuellen Fortbildung notwendig. Der Lehrgang darf selbstverständlich auch woanders absolviert worden sein (eine Bestätigung der Teilnahme muss vorliegen). \n  \nWeitere wichtige Informationen im Rundbrief\nDownload Rundbrief
URL:https://emscherruhrturngau.de/event/kampfrichter-fortbildung-geraetturnen-weiblich-2/
LOCATION:Sportpark Wanne\, Im Sportpark 20\, Herne\, 44652\, Germany
CATEGORIES:Veranstaltungen
ORGANIZER;CN="TV Kronenburg":MAILTO:falke@michael-alfermann.de
END:VEVENT
END:VCALENDAR