BEGIN:VCALENDAR
VERSION:2.0
PRODID:-//Emscher Ruhr Turnverband - ECPv6.15.17.1//NONSGML v1.0//EN
CALSCALE:GREGORIAN
METHOD:PUBLISH
X-ORIGINAL-URL:https://emscherruhrturngau.de
X-WR-CALDESC:Veranstaltungen für Emscher Ruhr Turnverband
REFRESH-INTERVAL;VALUE=DURATION:PT1H
X-Robots-Tag:noindex
X-PUBLISHED-TTL:PT1H
BEGIN:VTIMEZONE
TZID:UTC
BEGIN:STANDARD
TZOFFSETFROM:+0000
TZOFFSETTO:+0000
TZNAME:UTC
DTSTART:20230101T000000
END:STANDARD
END:VTIMEZONE
BEGIN:VEVENT
DTSTART;TZID=UTC:20241109T090000
DTEND;TZID=UTC:20241109T153000
DTSTAMP:20260423T140612
CREATED:20240418T171616Z
LAST-MODIFIED:20240419T151631Z
UID:2216-1731142800-1731166200@emscherruhrturngau.de
SUMMARY:Übungsleiter-Fortbildung „Allround-Fitness“
DESCRIPTION:Thema am 1. Tag: Pilates\, Faszio und Hula \nThema am 2. Tag: Parkour und Line Dance \nTeil 1: Samstag\, 09. November 2024\, 09:00 – 15:30 Uhr \nTeil 2: Sonntag\, 10. November 2024\, 09:00 – 15:30 Uhr \nAlle wichtigen Informationen entnehmt bitte dem Rundbrief. \nDownload Rundbrief
URL:https://emscherruhrturngau.de/event/uebungsleiter-fortbildung-allround-fitness/
LOCATION:Turnhalle Hildegardis-Schule\, Klinikstr. 1\, 44791 Bochum\, Klinikstr. 1\, Bochum\, NRW\, 44791\, Deutschland
CATEGORIES:Veranstaltungen
END:VEVENT
END:VCALENDAR