BEGIN:VCALENDAR
VERSION:2.0
PRODID:-//Emscher Ruhr Turnverband - ECPv6.15.17.1//NONSGML v1.0//EN
CALSCALE:GREGORIAN
METHOD:PUBLISH
X-ORIGINAL-URL:https://emscherruhrturngau.de
X-WR-CALDESC:Veranstaltungen für Emscher Ruhr Turnverband
REFRESH-INTERVAL;VALUE=DURATION:PT1H
X-Robots-Tag:noindex
X-PUBLISHED-TTL:PT1H
BEGIN:VTIMEZONE
TZID:UTC
BEGIN:STANDARD
TZOFFSETFROM:+0000
TZOFFSETTO:+0000
TZNAME:UTC
DTSTART:20230101T000000
END:STANDARD
END:VTIMEZONE
BEGIN:VEVENT
DTSTART;TZID=UTC:20240608T100000
DTEND;TZID=UTC:20240608T170000
DTSTAMP:20260423T215035
CREATED:20240417T160900Z
LAST-MODIFIED:20240419T151141Z
UID:2210-1717840800-1717866000@emscherruhrturngau.de
SUMMARY:Fortbildungen des WTB im Emscher-Ruhr Turnverband 2024 / Teil 1
DESCRIPTION:Stabile Körpermitte \nEin funktionelles Training bietet zeitgemäße gezielte Angebote zur Verbesserung aller motorischer Hauptbeanspruchungsformen an. Hier stehen Stabilisation und Mobilisation im Focus. Sie sind wesentliche Elemente\, die für eine gute Haltung und eine stabile Körpermitte benötigt werden. Sie bilden darum auch den Schwerpunkt dieser Fortbildung\, in der geeignete Übungsformen und Programme vorgestellt werden. Differenzierungsmöglichkeiten der Bewegungen für verschiedene Zielgruppen werden aufgezeigt. \nAlle wichtigen Informationen entnehmt bitte dem Rundbrief. \nDownload Rundbrief
URL:https://emscherruhrturngau.de/event/fortbildungen-des-wtb-im-emscher-ruhr-turnverband-2024/
LOCATION:Turnhalle Hildegardis-Schule\, Klinikstr. 1\, 44791 Bochum\, Klinikstr. 1\, Bochum\, NRW\, 44791\, Deutschland
CATEGORIES:Veranstaltungen
END:VEVENT
END:VCALENDAR