BEGIN:VCALENDAR
VERSION:2.0
PRODID:-//Emscher Ruhr Turnverband - ECPv6.15.17.1//NONSGML v1.0//EN
CALSCALE:GREGORIAN
METHOD:PUBLISH
X-ORIGINAL-URL:https://emscherruhrturngau.de
X-WR-CALDESC:Veranstaltungen für Emscher Ruhr Turnverband
REFRESH-INTERVAL;VALUE=DURATION:PT1H
X-Robots-Tag:noindex
X-PUBLISHED-TTL:PT1H
BEGIN:VTIMEZONE
TZID:UTC
BEGIN:STANDARD
TZOFFSETFROM:+0000
TZOFFSETTO:+0000
TZNAME:UTC
DTSTART:20230101T000000
END:STANDARD
END:VTIMEZONE
BEGIN:VEVENT
DTSTART;VALUE=DATE:20240509
DTEND;VALUE=DATE:20240510
DTSTAMP:20260423T233504
CREATED:20240314T174740Z
LAST-MODIFIED:20240315T105129Z
UID:2182-1715212800-1715299199@emscherruhrturngau.de
SUMMARY:NRW-Mehrkampfmeisterschaften 2024 in Bergisch Gladbach
DESCRIPTION:Jahnwettkämpfe\nDeutsche Mehrkämpfe\nleichtathletische Mehr- und Einzelwettkämpfe\nschwimmerische Mehrkämpfe\n\nVeranstalter:\nRheinischer- und Westfälischer Turnerbund Termin und \nOrt:\n09. Mai -Gerätturnen & Leichtathletik- in Bergisch Gladbach\n25. Mai -Schwimmen- in Neuss \n\nWeitere Informationen findet Ihr im Rundbrief \n\n\n\nDownload Rundbrief
URL:https://emscherruhrturngau.de/event/nrw-mehrkampfmeisterschaften-2024-in-bergisch-gladbach/
LOCATION:Rheinischer- und Westfälischer Turnerbund\, Bergisch Gladbach
CATEGORIES:Veranstaltungen
END:VEVENT
END:VCALENDAR