BEGIN:VCALENDAR
VERSION:2.0
PRODID:-//Emscher Ruhr Turnverband - ECPv6.15.17.1//NONSGML v1.0//EN
CALSCALE:GREGORIAN
METHOD:PUBLISH
X-WR-CALNAME:Emscher Ruhr Turnverband
X-ORIGINAL-URL:https://emscherruhrturngau.de
X-WR-CALDESC:Veranstaltungen für Emscher Ruhr Turnverband
REFRESH-INTERVAL;VALUE=DURATION:PT1H
X-Robots-Tag:noindex
X-PUBLISHED-TTL:PT1H
BEGIN:VTIMEZONE
TZID:UTC
BEGIN:STANDARD
TZOFFSETFROM:+0000
TZOFFSETTO:+0000
TZNAME:UTC
DTSTART:20230101T000000
END:STANDARD
END:VTIMEZONE
BEGIN:VEVENT
DTSTART;TZID=UTC:20240425T193000
DTEND;TZID=UTC:20240425T210000
DTSTAMP:20260424T010805
CREATED:20240417T163354Z
LAST-MODIFIED:20240418T143412Z
UID:2193-1714073400-1714078800@emscherruhrturngau.de
SUMMARY:Bailaro
DESCRIPTION:Bailaro besteht aus dem Wechsel von choreografiertem Herz-Kreislauf-Training und choreografiertem\, hochintensivem Muskeltraining. \nDas Entertainment Fitness Konzept beinhaltet ein vielfältiges Repertoire an Tanz- und Musikstilen\, von Dancestyles aus den 50ern\, HipHop\, Schlager\, Techno und vielen mehr….. \nTermin:\nDonnerstag\, 25.04.2024 \nZeit:\n19:30 – 21:00 Uhr \nOrt:\nTurnhalle Hildegardis-Schule\, Klinikstr. 1\, 44791 Bochum \nReferentin:\nMarion Braun \nAnmeldung:\nIris Pöstgens\, Tel: 0234/41403503 \nEmail:\ngesundheitssport@ert-online.de \nAnmeldeschluss:\n20.04.2024 \nHinweis:\nDie Veranstaltung ist kostenlos. Eine Anmeldung ist allerdings aus organisatorischen Gründen erforderlich. \nDownload Rundbrief
URL:https://emscherruhrturngau.de/event/bailaro/
LOCATION:Turnhalle Hildegardis-Schule\, Klinikstr. 1\, 44791 Bochum\, Klinikstr. 1\, Bochum\, NRW\, 44791\, Deutschland
CATEGORIES:Veranstaltungen
END:VEVENT
END:VCALENDAR