BEGIN:VCALENDAR
VERSION:2.0
PRODID:-//Emscher Ruhr Turnverband - ECPv6.15.17.1//NONSGML v1.0//EN
CALSCALE:GREGORIAN
METHOD:PUBLISH
X-WR-CALNAME:Emscher Ruhr Turnverband
X-ORIGINAL-URL:https://emscherruhrturngau.de
X-WR-CALDESC:Veranstaltungen für Emscher Ruhr Turnverband
REFRESH-INTERVAL;VALUE=DURATION:PT1H
X-Robots-Tag:noindex
X-PUBLISHED-TTL:PT1H
BEGIN:VTIMEZONE
TZID:UTC
BEGIN:STANDARD
TZOFFSETFROM:+0000
TZOFFSETTO:+0000
TZNAME:UTC
DTSTART:20230101T000000
END:STANDARD
END:VTIMEZONE
BEGIN:VEVENT
DTSTART;TZID=UTC:20240314T193000
DTEND;TZID=UTC:20240314T210000
DTSTAMP:20260424T024645
CREATED:20240112T153739Z
LAST-MODIFIED:20240112T153848Z
UID:2108-1710444600-1710450000@emscherruhrturngau.de
SUMMARY:Bewegung von den Füßen bis zum Kopf
DESCRIPTION:Wir sitzen im Auto\, wir sitzen im Büro\, wir sitzen auf der Couch\, wir stehen in der Küche\, wir stehen an der Kasse….\nDie vorgestellten Übungen sollen uns helfen\, gut durch den Tag zu kommen. \nIdeen für den Alltag und die Übungsstunde. \nAnmeldung:\nIris Pöstgens\, Tel: 0234/41403503 \nEmail:\ngesundheitssport@ert-online.de \nAnmeldeschluss: 10.03.2024 \nHinweis:\nDie Veranstaltung ist kostenlos. Eine Anmeldung ist allerdings aus organisatorischen Gründen erforderlich. Die Teilnehmer benötigen eine Gymnastikmatte.
URL:https://emscherruhrturngau.de/event/bewegung-von-den-fuessen-bis-zum-kopf/
LOCATION:Turnhalle Hildegardis-Schule\, Klinikstr. 1\, 44791 Bochum\, Klinikstr. 1\, Bochum\, NRW\, 44791\, Deutschland
CATEGORIES:Veranstaltungen
END:VEVENT
END:VCALENDAR