BEGIN:VCALENDAR
VERSION:2.0
PRODID:-//Emscher Ruhr Turnverband - ECPv6.15.17.1//NONSGML v1.0//EN
CALSCALE:GREGORIAN
METHOD:PUBLISH
X-WR-CALNAME:Emscher Ruhr Turnverband
X-ORIGINAL-URL:https://emscherruhrturngau.de
X-WR-CALDESC:Veranstaltungen für Emscher Ruhr Turnverband
REFRESH-INTERVAL;VALUE=DURATION:PT1H
X-Robots-Tag:noindex
X-PUBLISHED-TTL:PT1H
BEGIN:VTIMEZONE
TZID:UTC
BEGIN:STANDARD
TZOFFSETFROM:+0000
TZOFFSETTO:+0000
TZNAME:UTC
DTSTART:20230101T000000
END:STANDARD
END:VTIMEZONE
BEGIN:VEVENT
DTSTART;TZID=UTC:20240309T093000
DTEND;TZID=UTC:20240309T160000
DTSTAMP:20260424T024821
CREATED:20240105T112510Z
LAST-MODIFIED:20240223T140533Z
UID:2084-1709976600-1710000000@emscherruhrturngau.de
SUMMARY:FIT MIT DEM ERT / FÄLLT AUS!!!
DESCRIPTION:Fit mit dem ERT\n18 Workshops zu Themen aus den Bereichen Fitness\, Kraft Beweglichkeit\, Selbstverteidigung und Parkour \nVeranstaltungsorte\nSporthalle der Realschule Sodingen\, Castroper Str. 251 in Herne\nSporthalle der Vellwig-Schule\, Vellwigstr. 28 in Herne \nWeitere Informationen entnehmt bitte unserem Rundbrief 01 / 2024
URL:https://emscherruhrturngau.de/event/fit-mit-dem-ert-2/
LOCATION:NRW
CATEGORIES:Veranstaltungen
END:VEVENT
END:VCALENDAR